BEGIN:VCALENDAR
VERSION:2.0
PRODID:-//Firehouse - ECPv6.15.20//NONSGML v1.0//EN
CALSCALE:GREGORIAN
METHOD:PUBLISH
X-ORIGINAL-URL:https://firehouse.org
X-WR-CALDESC:Events for Firehouse
REFRESH-INTERVAL;VALUE=DURATION:PT1H
X-Robots-Tag:noindex
X-PUBLISHED-TTL:PT1H
BEGIN:VTIMEZONE
TZID:America/New_York
BEGIN:DAYLIGHT
TZOFFSETFROM:-0500
TZOFFSETTO:-0400
TZNAME:EDT
DTSTART:20250309T070000
END:DAYLIGHT
BEGIN:STANDARD
TZOFFSETFROM:-0400
TZOFFSETTO:-0500
TZNAME:EST
DTSTART:20251102T060000
END:STANDARD
BEGIN:DAYLIGHT
TZOFFSETFROM:-0500
TZOFFSETTO:-0400
TZNAME:EDT
DTSTART:20260308T070000
END:DAYLIGHT
BEGIN:STANDARD
TZOFFSETFROM:-0400
TZOFFSETTO:-0500
TZNAME:EST
DTSTART:20261101T060000
END:STANDARD
BEGIN:DAYLIGHT
TZOFFSETFROM:-0500
TZOFFSETTO:-0400
TZNAME:EDT
DTSTART:20270314T070000
END:DAYLIGHT
BEGIN:STANDARD
TZOFFSETFROM:-0400
TZOFFSETTO:-0500
TZNAME:EST
DTSTART:20271107T060000
END:STANDARD
END:VTIMEZONE
BEGIN:VEVENT
DTSTART;TZID=America/New_York:20260206T193000
DTEND;TZID=America/New_York:20260206T213000
DTSTAMP:20260424T074633
CREATED:20251013T120042Z
LAST-MODIFIED:20251212T155120Z
UID:10001253-1770406200-1770413400@firehouse.org
SUMMARY:Gavin Marengi Unplugged
DESCRIPTION:The Firehouse Center for the Arts Presents… \nGavin Marengi Unplugged\nTickets starting at $25 \nLocal – Country \nPurchase Tickets\n\nGavin Marengi\, a prodigious country music singer-songwriter\, burst onto the scene with his debut album\, “Southbound\,” at the early age of 15. Now\, just two years later\, he’s already working on his third album\, continuing to captivate audiences all over the country selling out venues from Boston to Nashville and beyond with his heartfelt lyrics. Oftentimes Gavin quotes that his purpose in music is writing songs that are true to himself and hope other people can connect with the songs the same way he does. Currently on the “Breathin’ Years Tour”\, Gavin’s journey is a testament to his remarkable talent and dedication to his craft. \nOn February 6th of the new year he and his captivating band are taking the stage at the Firehouse Center for the Arts in Newburyport\, MA for an exclusive\, one off\, Unplugged set. The scene\, the music and the environment is going to be something you can’t experience anywhere else. Come join us while we see some of Gavin Marengi’s greatest hits and even some legendary covers\, unplugged!
URL:https://firehouse.org/event/marengi-26/
LOCATION:Firehouse Center for the Arts\, Market Square\, Newburyport\, MA\, 01950\, United States
CATEGORIES:Music
ATTACH;FMTTYPE=image/jpeg:https://firehouse.org/wp-content/uploads/2025/10/Gavin-M.jpg
END:VEVENT
BEGIN:VEVENT
DTSTART;TZID=America/New_York:20260207T193000
DTEND;TZID=America/New_York:20260207T213000
DTSTAMP:20260424T074633
CREATED:20251013T120023Z
LAST-MODIFIED:20260206T215111Z
UID:10001254-1770492600-1770499800@firehouse.org
SUMMARY:Hayley Reardon
DESCRIPTION:The Firehouse Center for the Arts presents… \nHayley Reardon\nTickets starting at $18 \nPurchase Tickets\n\nNorth Shore native Hayley Reardon is a critically acclaimed folk-pop singer and songwriter\, and a storyteller in the truest sense of the word. Reardon dove head first into music at the young age of 15\, and has dedicated much of her life to writing\, recording and performing music around the world. With more than 85 original songs released to date\, Reardon’s music has been featured on multiple Spotify and Apple Music editorial playlists\, totaling more than 8 million streams on Apple Music alone.
URL:https://firehouse.org/event/hayley-26/
LOCATION:Firehouse Center for the Arts\, Market Square\, Newburyport\, MA\, 01950\, United States
CATEGORIES:Music
ATTACH;FMTTYPE=image/jpeg:https://firehouse.org/wp-content/uploads/2026/02/Concert-Web-Image-690-x-315-px-1.jpg
END:VEVENT
BEGIN:VEVENT
DTSTART;TZID=America/New_York:20260214T110000
DTEND;TZID=America/New_York:20260214T120000
DTSTAMP:20260424T074633
CREATED:20251230T173048Z
LAST-MODIFIED:20260115T184854Z
UID:10001280-1771066800-1771070400@firehouse.org
SUMMARY:Junie B's Essential Survival Guide to School
DESCRIPTION:The Firehouse Center for the Arts Presents… \nJunie B’s Essential Survival Guide to School\nAdult | $15 \nStudent | $10 \nPurchase Tickets\n\nJunie B. Jones is back! Based on the bestselling books\, the saga of the wisecracking first-grader continues in Junie B.’s Essential Survival Guide to School\, a goofy and heartwarming follow-up to Junie B. Jones\, The Musical.  \nA self-appointed expert on all things first grade\, Junie B. is determined to write the ultimate guide – Junie B.’s Essential Survival Guide to School. As she deals with writer’s block and constantly getting into trouble\, Junie B. quickly realizes that she still has a lot to learn. \n  \nCast Includes:\nEvie Salvi as Junie B. Jones \nColleen Tenney as Herb\, Mr. Scary\, and Ensemble \nRydia Vielehr as May\, Ms. Weller\, and Ensemble \nSophia Barbato as Lucille\, Gus\, and Ensemble \nErin Timbs as Sheldon\, Mrs. Gutzman\, Ensemble \n  \n \nA Firehouse Center for the Arts\, Theater for Young Audiences performance\, Junie B’s Essential Survival Guide to School is the perfect choice to introduce children and families to the joys of live theater. With just one act\, no intermission\, and a run time under 1 hour\, this is perfect to keep children’s attention and give them a whole show filled with fun. TYA shows at the Firehouse include lighting and projection that is tailored to younger eyes (nothing too scary\, flashy\, or bright!) and minimal sets that inspire imagination.  \n  \nPurchase Tickets
URL:https://firehouse.org/event/jbj/2026-02-14/1/
LOCATION:Firehouse Center for the Arts\, Market Square\, Newburyport\, MA\, 01950\, United States
CATEGORIES:Family,Theater
ATTACH;FMTTYPE=image/jpeg:https://firehouse.org/wp-content/uploads/2025/12/JBJ-Web-Event690-x-375-px-1.jpg
END:VEVENT
BEGIN:VEVENT
DTSTART;TZID=America/New_York:20260214T140000
DTEND;TZID=America/New_York:20260214T150000
DTSTAMP:20260424T074633
CREATED:20251230T173048Z
LAST-MODIFIED:20260115T184854Z
UID:10001281-1771077600-1771081200@firehouse.org
SUMMARY:Junie B's Essential Survival Guide to School
DESCRIPTION:The Firehouse Center for the Arts Presents… \nJunie B’s Essential Survival Guide to School\nAdult | $15 \nStudent | $10 \nPurchase Tickets\n\nJunie B. Jones is back! Based on the bestselling books\, the saga of the wisecracking first-grader continues in Junie B.’s Essential Survival Guide to School\, a goofy and heartwarming follow-up to Junie B. Jones\, The Musical.  \nA self-appointed expert on all things first grade\, Junie B. is determined to write the ultimate guide – Junie B.’s Essential Survival Guide to School. As she deals with writer’s block and constantly getting into trouble\, Junie B. quickly realizes that she still has a lot to learn. \n  \nCast Includes:\nEvie Salvi as Junie B. Jones \nColleen Tenney as Herb\, Mr. Scary\, and Ensemble \nRydia Vielehr as May\, Ms. Weller\, and Ensemble \nSophia Barbato as Lucille\, Gus\, and Ensemble \nErin Timbs as Sheldon\, Mrs. Gutzman\, Ensemble \n  \n \nA Firehouse Center for the Arts\, Theater for Young Audiences performance\, Junie B’s Essential Survival Guide to School is the perfect choice to introduce children and families to the joys of live theater. With just one act\, no intermission\, and a run time under 1 hour\, this is perfect to keep children’s attention and give them a whole show filled with fun. TYA shows at the Firehouse include lighting and projection that is tailored to younger eyes (nothing too scary\, flashy\, or bright!) and minimal sets that inspire imagination.  \n  \nPurchase Tickets
URL:https://firehouse.org/event/jbj/2026-02-14/2/
LOCATION:Firehouse Center for the Arts\, Market Square\, Newburyport\, MA\, 01950\, United States
CATEGORIES:Family,Theater
ATTACH;FMTTYPE=image/jpeg:https://firehouse.org/wp-content/uploads/2025/12/JBJ-Web-Event690-x-375-px-1.jpg
END:VEVENT
BEGIN:VEVENT
DTSTART;TZID=America/New_York:20260215T110000
DTEND;TZID=America/New_York:20260215T120000
DTSTAMP:20260424T074633
CREATED:20251230T173048Z
LAST-MODIFIED:20260115T184854Z
UID:10001282-1771153200-1771156800@firehouse.org
SUMMARY:Junie B's Essential Survival Guide to School
DESCRIPTION:The Firehouse Center for the Arts Presents… \nJunie B’s Essential Survival Guide to School\nAdult | $15 \nStudent | $10 \nPurchase Tickets\n\nJunie B. Jones is back! Based on the bestselling books\, the saga of the wisecracking first-grader continues in Junie B.’s Essential Survival Guide to School\, a goofy and heartwarming follow-up to Junie B. Jones\, The Musical.  \nA self-appointed expert on all things first grade\, Junie B. is determined to write the ultimate guide – Junie B.’s Essential Survival Guide to School. As she deals with writer’s block and constantly getting into trouble\, Junie B. quickly realizes that she still has a lot to learn. \n  \nCast Includes:\nEvie Salvi as Junie B. Jones \nColleen Tenney as Herb\, Mr. Scary\, and Ensemble \nRydia Vielehr as May\, Ms. Weller\, and Ensemble \nSophia Barbato as Lucille\, Gus\, and Ensemble \nErin Timbs as Sheldon\, Mrs. Gutzman\, Ensemble \n  \n \nA Firehouse Center for the Arts\, Theater for Young Audiences performance\, Junie B’s Essential Survival Guide to School is the perfect choice to introduce children and families to the joys of live theater. With just one act\, no intermission\, and a run time under 1 hour\, this is perfect to keep children’s attention and give them a whole show filled with fun. TYA shows at the Firehouse include lighting and projection that is tailored to younger eyes (nothing too scary\, flashy\, or bright!) and minimal sets that inspire imagination.  \n  \nPurchase Tickets
URL:https://firehouse.org/event/jbj/2026-02-15/1/
LOCATION:Firehouse Center for the Arts\, Market Square\, Newburyport\, MA\, 01950\, United States
CATEGORIES:Family,Theater
ATTACH;FMTTYPE=image/jpeg:https://firehouse.org/wp-content/uploads/2025/12/JBJ-Web-Event690-x-375-px-1.jpg
END:VEVENT
BEGIN:VEVENT
DTSTART;TZID=America/New_York:20260215T140000
DTEND;TZID=America/New_York:20260215T150000
DTSTAMP:20260424T074633
CREATED:20251230T173048Z
LAST-MODIFIED:20260115T184854Z
UID:10001283-1771164000-1771167600@firehouse.org
SUMMARY:Junie B's Essential Survival Guide to School
DESCRIPTION:The Firehouse Center for the Arts Presents… \nJunie B’s Essential Survival Guide to School\nAdult | $15 \nStudent | $10 \nPurchase Tickets\n\nJunie B. Jones is back! Based on the bestselling books\, the saga of the wisecracking first-grader continues in Junie B.’s Essential Survival Guide to School\, a goofy and heartwarming follow-up to Junie B. Jones\, The Musical.  \nA self-appointed expert on all things first grade\, Junie B. is determined to write the ultimate guide – Junie B.’s Essential Survival Guide to School. As she deals with writer’s block and constantly getting into trouble\, Junie B. quickly realizes that she still has a lot to learn. \n  \nCast Includes:\nEvie Salvi as Junie B. Jones \nColleen Tenney as Herb\, Mr. Scary\, and Ensemble \nRydia Vielehr as May\, Ms. Weller\, and Ensemble \nSophia Barbato as Lucille\, Gus\, and Ensemble \nErin Timbs as Sheldon\, Mrs. Gutzman\, Ensemble \n  \n \nA Firehouse Center for the Arts\, Theater for Young Audiences performance\, Junie B’s Essential Survival Guide to School is the perfect choice to introduce children and families to the joys of live theater. With just one act\, no intermission\, and a run time under 1 hour\, this is perfect to keep children’s attention and give them a whole show filled with fun. TYA shows at the Firehouse include lighting and projection that is tailored to younger eyes (nothing too scary\, flashy\, or bright!) and minimal sets that inspire imagination.  \n  \nPurchase Tickets
URL:https://firehouse.org/event/jbj/2026-02-15/2/
LOCATION:Firehouse Center for the Arts\, Market Square\, Newburyport\, MA\, 01950\, United States
CATEGORIES:Family,Theater
ATTACH;FMTTYPE=image/jpeg:https://firehouse.org/wp-content/uploads/2025/12/JBJ-Web-Event690-x-375-px-1.jpg
END:VEVENT
BEGIN:VEVENT
DTSTART;TZID=America/New_York:20260222T160000
DTEND;TZID=America/New_York:20260222T180000
DTSTAMP:20260424T074633
CREATED:20251223T180034Z
LAST-MODIFIED:20251229T175059Z
UID:10001277-1771776000-1771783200@firehouse.org
SUMMARY:Firehouse Film Series: Tangled
DESCRIPTION:The Firehouse Center for the Arts presents… \nTangled\nA Firehouse Film Series Special\nAll tickets | Pay What You Can \nPurchase Tickets\n\nCome dressed as your favorite characters and explore the magic of TANGLED. This family favorite movie is perfect for all ages to celebrate the fun and whimsy of the world around us. The Firehouse Film Series is a pay what you can program encouraging families and audiences of all ages to enjoy the arts in our incredible Arakelian Theater located in the heart of downtown Newburyport. Grab your tickets today for a magical time! \n 
URL:https://firehouse.org/event/tangled/
LOCATION:Firehouse Center for the Arts\, Market Square\, Newburyport\, MA\, 01950\, United States
CATEGORIES:Family,Film
ATTACH;FMTTYPE=image/jpeg:https://firehouse.org/wp-content/uploads/2025/12/tangled.jpg
END:VEVENT
BEGIN:VEVENT
DTSTART;TZID=America/New_York:20260224T183000
DTEND;TZID=America/New_York:20260224T203000
DTSTAMP:20260424T074633
CREATED:20260114T181827Z
LAST-MODIFIED:20260114T181827Z
UID:10001287-1771957800-1771965000@firehouse.org
SUMMARY:Best Laid Plans - A Murder Mystery Dinner
DESCRIPTION:The Firehouse Center for the Arts & Brine Present… \nBest Laid Plans\nA Murder Mystery Dinner\nAll Tickets $75 \nPurchase Tickets\n\nCome to the quintessential whodunnit thriller at the estate of Sir Warren Peace and get thrown into a night of mystery\, intrigue\, and murder you will never forget. With a killer crowd of people just waiting for murder to arrive on the scene\, this night will keep everyone looking over their shoulders and guessing who the next victim will be! Bribe suspects for clues and gather information to uncover the unhinged guest who is whacking all the invitees. Just be careful\, because you could be next! Dress your best in evening wear and suits—this is a refined party\, after all. \n*This event will take place at Brine Restaurant and include dinner. Alcohol is NOT included in the purchase of a ticket* \n  \nWant to make your night even more exciting? Pre-purchase a wine pairing at checkout for just $35 and sample some of the exciting offers from Bring that fit your meal!
URL:https://firehouse.org/event/mm-26/
LOCATION:MA
CATEGORIES:Theater
ATTACH;FMTTYPE=image/png:https://firehouse.org/wp-content/uploads/2026/01/Murder-Mystery-Dinner-Web-Event-690-x-375-px.png
END:VEVENT
END:VCALENDAR