BEGIN:VCALENDAR
VERSION:2.0
PRODID:-//Firehouse - ECPv6.15.20//NONSGML v1.0//EN
CALSCALE:GREGORIAN
METHOD:PUBLISH
X-WR-CALNAME:Firehouse
X-ORIGINAL-URL:https://firehouse.org
X-WR-CALDESC:Events for Firehouse
REFRESH-INTERVAL;VALUE=DURATION:PT1H
X-Robots-Tag:noindex
X-PUBLISHED-TTL:PT1H
BEGIN:VTIMEZONE
TZID:America/New_York
BEGIN:DAYLIGHT
TZOFFSETFROM:-0500
TZOFFSETTO:-0400
TZNAME:EDT
DTSTART:20240310T070000
END:DAYLIGHT
BEGIN:STANDARD
TZOFFSETFROM:-0400
TZOFFSETTO:-0500
TZNAME:EST
DTSTART:20241103T060000
END:STANDARD
BEGIN:DAYLIGHT
TZOFFSETFROM:-0500
TZOFFSETTO:-0400
TZNAME:EDT
DTSTART:20250309T070000
END:DAYLIGHT
BEGIN:STANDARD
TZOFFSETFROM:-0400
TZOFFSETTO:-0500
TZNAME:EST
DTSTART:20251102T060000
END:STANDARD
BEGIN:DAYLIGHT
TZOFFSETFROM:-0500
TZOFFSETTO:-0400
TZNAME:EDT
DTSTART:20260308T070000
END:DAYLIGHT
BEGIN:STANDARD
TZOFFSETFROM:-0400
TZOFFSETTO:-0500
TZNAME:EST
DTSTART:20261101T060000
END:STANDARD
END:VTIMEZONE
BEGIN:VEVENT
DTSTART;TZID=America/New_York:20250809T193000
DTEND;TZID=America/New_York:20250809T213000
DTSTAMP:20260424T165920
CREATED:20250515T210026Z
LAST-MODIFIED:20250603T161337Z
UID:10001166-1754767800-1754775000@firehouse.org
SUMMARY:Ellis Paul
DESCRIPTION:The Firehouse Center for the Arts presents… \nEllis Paul\n$35 | All Tickets \nPurchase Tickets\n\nEllis Paul is a Maine-made singer-songwriter inspired by greats like Woodie Guthrie\, Joni Mitchell  and Bob Dylan. \nEllis Paul doesn’t just write songs; he’s a guitar-carrying reporter who covers the human condition  and details the hopes\, loves\, losses of those he observes\, turning their stories into luminous pieces of music that get under your skin and into your bloodstream. Paul weaves deeply personal experiences with social issues and renders them as provocative works that are as timely as they are timeless.  \nHis songs have appeared in several blockbuster films (Me\, Myself\, and Irene; Shallow Hal\, Hall Pass) and have been covered by award winning country artists (Sugarland\, Kristian Bush\, Jack Ingram). Through a steady succession of albums of his own – a remarkable 23 releases so far – and a constant touring presence around the world\, Paul’s audience has grown into a loyal legion of fans. Along the way\, he has picked up an impressive number of awards including the prestigious Kerrville New Folk Award\, 15 Boston Music Awards\, An Honorary Doctorate from the University of Maine\, the 2019 International Acoustic Music Awards Artist of the Year and most recently his album\, The Storyteller’s Suitcase\, was named the 2019 NERFA Album of the Year.  \nHis new album “55” touches on the necessity of gratitude in a difficult era of the pandemic and divided political stances on his own imprint\, Rosella Records.  \nCheck out Ellis’ work further on his website\, www.ellispaul.com
URL:https://firehouse.org/event/ellis-paul/
LOCATION:Firehouse Center for the Arts\, Market Square\, Newburyport\, MA\, 01950\, United States
CATEGORIES:Music
END:VEVENT
BEGIN:VEVENT
DTSTART;TZID=America/New_York:20250814T183000
DTEND;TZID=America/New_York:20250814T203000
DTSTAMP:20260424T165920
CREATED:20250515T210034Z
LAST-MODIFIED:20250512T135305Z
UID:10001160-1755196200-1755203400@firehouse.org
SUMMARY:Legally Blonde Jr.
DESCRIPTION:The Firehouse Center for the Arts presents… \nLegally Blonde Jr.\n$22 | Adults \n$18 | Students \nPurchase Tickets\n\nThe Firehouse Center for the Arts Education Program brings Harvard Law to Newburyport! \nLegally Blonde Jr. follows the transformation of the fabulous Elle Woods\, who heads to Harvard Law after her boyfriend\, Warner\, dumps her for not being “serious” enough. But Elle proves that beauty\, brains\, and a killer wardrobe can be the perfect mix for success! With the help of new friends Emmett and Paulette\, Elle discovers that maybe law is her natural calling after all – and she does it all with her signature style! \nPerformed by our amazingly talented cast of local performers aged 10-17\, this story of pink power\, quick wit\, and endless determination is fun for the whole family.
URL:https://firehouse.org/event/legally-blonde-jr/2025-08-14/
LOCATION:Firehouse Center for the Arts\, Market Square\, Newburyport\, MA\, 01950\, United States
CATEGORIES:Family,Theater
ATTACH;FMTTYPE=image/png:https://firehouse.org/wp-content/uploads/2025/05/LBjr690x315.png
END:VEVENT
BEGIN:VEVENT
DTSTART;TZID=America/New_York:20250815T183000
DTEND;TZID=America/New_York:20250815T203000
DTSTAMP:20260424T165920
CREATED:20250515T210034Z
LAST-MODIFIED:20250512T135305Z
UID:10001161-1755282600-1755289800@firehouse.org
SUMMARY:Legally Blonde Jr.
DESCRIPTION:The Firehouse Center for the Arts presents… \nLegally Blonde Jr.\n$22 | Adults \n$18 | Students \nPurchase Tickets\n\nThe Firehouse Center for the Arts Education Program brings Harvard Law to Newburyport! \nLegally Blonde Jr. follows the transformation of the fabulous Elle Woods\, who heads to Harvard Law after her boyfriend\, Warner\, dumps her for not being “serious” enough. But Elle proves that beauty\, brains\, and a killer wardrobe can be the perfect mix for success! With the help of new friends Emmett and Paulette\, Elle discovers that maybe law is her natural calling after all – and she does it all with her signature style! \nPerformed by our amazingly talented cast of local performers aged 10-17\, this story of pink power\, quick wit\, and endless determination is fun for the whole family.
URL:https://firehouse.org/event/legally-blonde-jr/2025-08-15/
LOCATION:Firehouse Center for the Arts\, Market Square\, Newburyport\, MA\, 01950\, United States
CATEGORIES:Family,Theater
ATTACH;FMTTYPE=image/png:https://firehouse.org/wp-content/uploads/2025/05/LBjr690x315.png
END:VEVENT
BEGIN:VEVENT
DTSTART;TZID=America/New_York:20250816T140000
DTEND;TZID=America/New_York:20250816T160000
DTSTAMP:20260424T165920
CREATED:20250515T210034Z
LAST-MODIFIED:20250512T135305Z
UID:10001162-1755352800-1755360000@firehouse.org
SUMMARY:Legally Blonde Jr.
DESCRIPTION:The Firehouse Center for the Arts presents… \nLegally Blonde Jr.\n$22 | Adults \n$18 | Students \nPurchase Tickets\n\nThe Firehouse Center for the Arts Education Program brings Harvard Law to Newburyport! \nLegally Blonde Jr. follows the transformation of the fabulous Elle Woods\, who heads to Harvard Law after her boyfriend\, Warner\, dumps her for not being “serious” enough. But Elle proves that beauty\, brains\, and a killer wardrobe can be the perfect mix for success! With the help of new friends Emmett and Paulette\, Elle discovers that maybe law is her natural calling after all – and she does it all with her signature style! \nPerformed by our amazingly talented cast of local performers aged 10-17\, this story of pink power\, quick wit\, and endless determination is fun for the whole family.
URL:https://firehouse.org/event/legally-blonde-jr/2025-08-16/1/
LOCATION:Firehouse Center for the Arts\, Market Square\, Newburyport\, MA\, 01950\, United States
CATEGORIES:Family,Theater
ATTACH;FMTTYPE=image/png:https://firehouse.org/wp-content/uploads/2025/05/LBjr690x315.png
END:VEVENT
BEGIN:VEVENT
DTSTART;TZID=America/New_York:20250816T183000
DTEND;TZID=America/New_York:20250816T203000
DTSTAMP:20260424T165920
CREATED:20250515T210034Z
LAST-MODIFIED:20250512T135305Z
UID:10001163-1755369000-1755376200@firehouse.org
SUMMARY:Legally Blonde Jr.
DESCRIPTION:The Firehouse Center for the Arts presents… \nLegally Blonde Jr.\n$22 | Adults \n$18 | Students \nPurchase Tickets\n\nThe Firehouse Center for the Arts Education Program brings Harvard Law to Newburyport! \nLegally Blonde Jr. follows the transformation of the fabulous Elle Woods\, who heads to Harvard Law after her boyfriend\, Warner\, dumps her for not being “serious” enough. But Elle proves that beauty\, brains\, and a killer wardrobe can be the perfect mix for success! With the help of new friends Emmett and Paulette\, Elle discovers that maybe law is her natural calling after all – and she does it all with her signature style! \nPerformed by our amazingly talented cast of local performers aged 10-17\, this story of pink power\, quick wit\, and endless determination is fun for the whole family.
URL:https://firehouse.org/event/legally-blonde-jr/2025-08-16/2/
LOCATION:Firehouse Center for the Arts\, Market Square\, Newburyport\, MA\, 01950\, United States
CATEGORIES:Family,Theater
ATTACH;FMTTYPE=image/png:https://firehouse.org/wp-content/uploads/2025/05/LBjr690x315.png
END:VEVENT
BEGIN:VEVENT
DTSTART;TZID=America/New_York:20250817T140000
DTEND;TZID=America/New_York:20250817T170000
DTSTAMP:20260424T165920
CREATED:20250515T210034Z
LAST-MODIFIED:20250512T135305Z
UID:10001164-1755439200-1755450000@firehouse.org
SUMMARY:Legally Blonde Jr.
DESCRIPTION:The Firehouse Center for the Arts presents… \nLegally Blonde Jr.\n$22 | Adults \n$18 | Students \nPurchase Tickets\n\nThe Firehouse Center for the Arts Education Program brings Harvard Law to Newburyport! \nLegally Blonde Jr. follows the transformation of the fabulous Elle Woods\, who heads to Harvard Law after her boyfriend\, Warner\, dumps her for not being “serious” enough. But Elle proves that beauty\, brains\, and a killer wardrobe can be the perfect mix for success! With the help of new friends Emmett and Paulette\, Elle discovers that maybe law is her natural calling after all – and she does it all with her signature style! \nPerformed by our amazingly talented cast of local performers aged 10-17\, this story of pink power\, quick wit\, and endless determination is fun for the whole family.
URL:https://firehouse.org/event/legally-blonde-jr/2025-08-17/
LOCATION:Firehouse Center for the Arts\, Market Square\, Newburyport\, MA\, 01950\, United States
CATEGORIES:Family,Theater
ATTACH;FMTTYPE=image/png:https://firehouse.org/wp-content/uploads/2025/05/LBjr690x315.png
END:VEVENT
BEGIN:VEVENT
DTSTART;TZID=America/New_York:20250821T193000
DTEND;TZID=America/New_York:20250821T213000
DTSTAMP:20260424T165920
CREATED:20250515T210039Z
LAST-MODIFIED:20250606T214333Z
UID:10001165-1755804600-1755811800@firehouse.org
SUMMARY:Tinsley Ellis
DESCRIPTION:The Firehouse Center for the Arts presents… \nTinsley Ellis\n$35 | All Tickets \nPurchase Tickets\n\n“An exciting\, emotional guitarist and a strong\, evocative songwriter…One of modern blues’ greatest performers.”  –Vintage Guitar \nAccording to Atlanta-based blues guitarist\, singer and songwriter Tinsley Ellis\, his new\, first-ever solo acoustic album\, Naked Truth\, is both “a departure and an arrival.” Ellis has been recording and travelling the world for over four decades\, delivering his feral\, guitar-fueled\, original electric blues-rock to ever-growing audiences at concert halls\, festivals\, and clubs. Naked Truth is steeped in the folk blues traditions of Muddy Waters\, Skip James\, Son House\, Robert Johnson and even Leo Kottke.  \nOn the Naked Truth tour\, Ellis will bring his music directly to his fans. “Two guitars and a car\,” he says of the simplicity of his North American touring situation. “When folks come to see me\, I’ll have the guitars I used on the record with me\, so what fans hear on the album is what they’ll get live. It’s not easy. Now I’m the whole band and there’s nowhere to hide. It’s scary every single time I go up on stage alone. But nothing could be more honest.”
URL:https://firehouse.org/event/tinsley-ellis/
LOCATION:Firehouse Center for the Arts\, Market Square\, Newburyport\, MA\, 01950\, United States
CATEGORIES:Music
ATTACH;FMTTYPE=image/jpeg:https://firehouse.org/wp-content/uploads/2025/05/tinsley-ellis-690x315-1.jpg
END:VEVENT
BEGIN:VEVENT
DTSTART;TZID=America/New_York:20250822T193000
DTEND;TZID=America/New_York:20250822T213000
DTSTAMP:20260424T165920
CREATED:20250515T210039Z
LAST-MODIFIED:20250606T214510Z
UID:10001167-1755891000-1755898200@firehouse.org
SUMMARY:Being Petty
DESCRIPTION:The Firehouse Center for the Arts presents… \nBeing Petty\n$30 | All Tickets \nPurchase Tickets\n\nNon-stop\, industrial strength rock ‘n’ roll. The Tom Petty Tribute that will Make You Believe… \nSince that Spring of 2022\, Being Petty has taken on Petty fans throughout the Northeast\, adding a multimedia element to the show\, more instruments\, crew members\, and fierce determination tempered by a humble gratitude that they get to perform songs from one of the greatest American songbooks night after night for fans just like them. With the addition of the incredible Nathan Robbins on keyboards as Benmont Tench\, Being Petty is bringing the Tom Petty and the Heartbreakers concert experience back to his fans. \n\nBeing Petty believes that a tribute band should be 100% committed to respecting the artist and the fans. At every show\, during every song\, Being Petty continues to fulfill that commitment\, honoring the musical and cultural legacy of Tom Petty and the Heartbreakers. \n 
URL:https://firehouse.org/event/being-petty/
LOCATION:Firehouse Center for the Arts\, Market Square\, Newburyport\, MA\, 01950\, United States
CATEGORIES:Music
ATTACH;FMTTYPE=image/jpeg:https://firehouse.org/wp-content/uploads/2025/05/being-petty-690x315-1.jpg
END:VEVENT
BEGIN:VEVENT
DTSTART;TZID=America/New_York:20250828T190000
DTEND;TZID=America/New_York:20250828T210000
DTSTAMP:20260424T165920
CREATED:20250515T210014Z
LAST-MODIFIED:20250815T165422Z
UID:10001168-1756407600-1756414800@firehouse.org
SUMMARY:Comedy Night feat. Drew Dunn
DESCRIPTION:The Firehouse Center for the Arts presents… \nComedy Night featuring Drew Dunn\nTickets starting at $30 \nPurchase Tickets\n\n  \n**Comedy Night featuring Lenny Clarke has been postponed due to an injury sustained by the performer. We are unsure\, as of now\, when a return engagement will be\, but wish him the best of luck in recovery. Drew Dunn (info below) has stepped in to fill the headlining role for this performance. \n  \nDrew Dunn is a national and international comedy star playing major clubs across the US and Canada including stops in New York\, Las Vegas\, L.A.\, Atlantic City\, and more. Dunn is a previous winner of the Boston Comedy Festival\, The Burbank Comedy Festival and the Seattle Comedy Festival\, and he has been featured in the highly prestigious Montreal Comedy Festival. He has been seen on Dry Bar Comedy and this month (August) he was on the Tonight Show with Jimmy Kimmel.  \nDan Donahue is large man who brings a huge presence to the stage. He has worked the Capitol Center for the Arts\, The Tupelo\, the Spire in Plymouth as well as fundraisers and private events throughout New England and beyond.  \nDavid Twohig is an attorney who has returned to the comedy world and quickly has been welcomed back to many top rooms in the region such at the Tupelo Music Hall\, the Natick Center for the Arts\, The Spire Center for the Arts and more. \n 
URL:https://firehouse.org/event/comedy-night-feat-lenny-clarke/
LOCATION:Firehouse Center for the Arts\, Market Square\, Newburyport\, MA\, 01950\, United States
CATEGORIES:Comedy
ATTACH;FMTTYPE=image/jpeg:https://firehouse.org/wp-content/uploads/2025/05/comedy-night-420x315-1.jpg
END:VEVENT
BEGIN:VEVENT
DTSTART;TZID=America/New_York:20250829T193000
DTEND;TZID=America/New_York:20250829T213000
DTSTAMP:20260424T165920
CREATED:20250515T210008Z
LAST-MODIFIED:20250606T214815Z
UID:10001200-1756495800-1756503000@firehouse.org
SUMMARY:The Wolff Sisters
DESCRIPTION:The Firehouse Center for the Arts presents… \nThe Wolff Sisters\n$25 | All Tickets \nPurchase Tickets\n\n“Rebecca\, Rachael\, and Kat Wolff — actual sisters — live comfily at the crossroads of Americana\, roots\, and ’60s rock ‘n’ roll\, where The Band might meet Brandi Carlile and take her out for a beer.” -The Boston Globe \nThe Wolff Sisters is fronted by three sisters — Rebecca on acoustic guitar\, Kat on the keys\, Rachael on electric guitar\, and all three on lead vocals and harmonies. Raised on Bob Dylan\, The Band\, and Little Feat\, the sisters crafted their sound around a honky-tonk piano in the living room of their childhood home. With a talented cast of rotating drummers and bass players\, The Wolff Sisters are a rag tag group of hardworking individuals that bring a big sound and timeless songs. Their music is honest and genre defying\, but still rooted in traditional rock and Americana storytelling. New England Music Award winner for Americana Artist of the Year 2021 and Boston Music Award winner for Americana Artist of the Year 2020\, the band’s electrifying live performance and unique sound continues to gain momentum and recognition from their hometown of Boston and beyond. The band is on tour promoting their fourth studio album ‘Dark River.’ \n 
URL:https://firehouse.org/event/the-wolff-sisters/
LOCATION:Firehouse Center for the Arts\, Market Square\, Newburyport\, MA\, 01950\, United States
CATEGORIES:Music
ATTACH;FMTTYPE=image/jpeg:https://firehouse.org/wp-content/uploads/2025/05/WOLFF-SISTERS-690x315-1.jpg
END:VEVENT
BEGIN:VEVENT
DTSTART;TZID=America/New_York:20250830T193000
DTEND;TZID=America/New_York:20250830T213000
DTSTAMP:20260424T165920
CREATED:20250515T210055Z
LAST-MODIFIED:20250606T214913Z
UID:10001169-1756582200-1756589400@firehouse.org
SUMMARY:Big Yellow Taxi
DESCRIPTION:The Firehouse Center for the Arts presents… \nBig Yellow Taxi\nTickets starting at $25 \nPurchase Tickets\n\nBig Yellow Taxi is a one of a kind musical experience. There is no other ensemble playing the music of Joni Mitchell with the dedication and imagination that BYT brings to every show. Created to explore Joni’s amazing music from its early folk roots to her pop masterpieces to her jazz influenced compositions\, Big Yellow Taxi brings Joni’s music alive. ​The band features the expressive and soaring voice of Teresa Lorenço. Teresa’s vocals pay homage to Joni’s sweet\, husky\, and bell-like voice delivering an emotional journey through Joni’s expansive catalog. The mission of the band is to present a show that immerses the audience in an intimate journey through many of Joni’s best loved and most powerful songs: a performance beyond mere imitation\, to delve into Joni’s musical intensity and genius\, to leave audiences entertained\, moved\, and elated. \n  \nBand Page
URL:https://firehouse.org/event/big-yellow-taxi-2/
LOCATION:Firehouse Center for the Arts\, Market Square\, Newburyport\, MA\, 01950\, United States
CATEGORIES:Music
ATTACH;FMTTYPE=image/jpeg:https://firehouse.org/wp-content/uploads/2025/05/BIG-YELLOW-TAXI-690x315-1.jpg
END:VEVENT
BEGIN:VEVENT
DTSTART;TZID=America/New_York:20250831T193000
DTEND;TZID=America/New_York:20250831T213000
DTSTAMP:20260424T165920
CREATED:20250515T210053Z
LAST-MODIFIED:20250606T215018Z
UID:10001170-1756668600-1756675800@firehouse.org
SUMMARY:Patty Larkin
DESCRIPTION:The Firehouse Center for the Arts presents… \nPatty Larkin\n$35 | All Tickets \nPurchase Tickets\n\nPATTY LARKIN is a visionary of sound and wonder\, a real deal version of artistry made of equal parts guitar wizardry\, vocals shot through with soul and inventive lyrics that ripple across the terrain of the heart. Described as “riveting” (Chicago Tribune)\, “hypnotic” (Entertainment Weekly)\, and a “drop-dead brilliant” performer (Performing Songwriter)\, Patty has captured audiences for over 30 years with an imagination\, enchantment\, and technical artistry that has redefined the boundaries of the guitar driven singer songwriter. \nWith eleven studio albums and two live recordings under her belt\, Patty mines the intersections of poetry and song with her innovative 14th release\, Bird in a Cage\, released on her own Road Narrows Records. Bird in a Cage puts poems from ten notable poets to song\, including US Poet Laureates William Carlos Williams\, Stanley Kunitz\, Kay Ryan\, Robert Pinsky and Billy Collins\, for a new and haunting collection that pulses with the magic of lyricism. Poems are made to be shared aloud\, and with Bird\, Patty takes up that tradition and sets it aglow: her extraordinary musical shadings make each poem a star.
URL:https://firehouse.org/event/patty-larkin/
LOCATION:Firehouse Center for the Arts\, Market Square\, Newburyport\, MA\, 01950\, United States
CATEGORIES:Music
ATTACH;FMTTYPE=image/jpeg:https://firehouse.org/wp-content/uploads/2025/05/PATTY-LARKIN-690x315-1.jpg
END:VEVENT
END:VCALENDAR