BEGIN:VCALENDAR
VERSION:2.0
PRODID:-//Firehouse - ECPv6.15.20//NONSGML v1.0//EN
CALSCALE:GREGORIAN
METHOD:PUBLISH
X-ORIGINAL-URL:https://firehouse.org
X-WR-CALDESC:Events for Firehouse
REFRESH-INTERVAL;VALUE=DURATION:PT1H
X-Robots-Tag:noindex
X-PUBLISHED-TTL:PT1H
BEGIN:VTIMEZONE
TZID:America/New_York
BEGIN:DAYLIGHT
TZOFFSETFROM:-0500
TZOFFSETTO:-0400
TZNAME:EDT
DTSTART:20220313T070000
END:DAYLIGHT
BEGIN:STANDARD
TZOFFSETFROM:-0400
TZOFFSETTO:-0500
TZNAME:EST
DTSTART:20221106T060000
END:STANDARD
BEGIN:DAYLIGHT
TZOFFSETFROM:-0500
TZOFFSETTO:-0400
TZNAME:EDT
DTSTART:20230312T070000
END:DAYLIGHT
BEGIN:STANDARD
TZOFFSETFROM:-0400
TZOFFSETTO:-0500
TZNAME:EST
DTSTART:20231105T060000
END:STANDARD
BEGIN:DAYLIGHT
TZOFFSETFROM:-0500
TZOFFSETTO:-0400
TZNAME:EDT
DTSTART:20240310T070000
END:DAYLIGHT
BEGIN:STANDARD
TZOFFSETFROM:-0400
TZOFFSETTO:-0500
TZNAME:EST
DTSTART:20241103T060000
END:STANDARD
END:VTIMEZONE
BEGIN:VEVENT
DTSTART;TZID=America/New_York:20231103T200000
DTEND;TZID=America/New_York:20231103T200000
DTSTAMP:20260424T060236
CREATED:20230816T212511Z
LAST-MODIFIED:20230911T130634Z
UID:10000696-1699041600-1699041600@firehouse.org
SUMMARY:Shemekia Copeland
DESCRIPTION:Members: $35/$45/$55\nNon-Members: $40/$50/$60 \n  \nPurchase Tickets\n\n\n“Shemekia Copeland is the greatest blues singer of her generation.”  –The Washington Post \n\n\nAward-winning blues\, soul and Americana singer Shemekia Copeland possesses one of the most instantly recognizable and deeply soulful roots music voices of our time. She is beloved worldwide for the fearlessness\, honesty and humor of her revelatory music\, as well as for delivering each song she performs with unmatched passion. Copeland — winner of the 2021 Blues Music Award for B.B. King Entertainer Of The Year— connects with her audience on an intensely personal level\, taking them with her on what The Wall Street Journal calls “a consequential ride” of “bold and timely blues.” NPR Music says Shemekia sings with “punchy defiance and potent conviction.” The Houston Chronicle describes her songs as “resilient pleas for a kinder tomorrow.” \n\nPurchase Tickets\n\n  \n  \n 
URL:https://firehouse.org/event/shemekia-copeland-2-2/
LOCATION:Firehouse Center for the Arts\, Market Square\, Newburyport\, MA\, 01950\, United States
CATEGORIES:Music
ATTACH;FMTTYPE=image/jpeg:https://firehouse.org/wp-content/uploads/2023/08/Shemekia-Copeland_Website.jpg
END:VEVENT
BEGIN:VEVENT
DTSTART;TZID=America/New_York:20231117T200000
DTEND;TZID=America/New_York:20231117T200000
DTSTAMP:20260424T060236
CREATED:20230901T101952Z
LAST-MODIFIED:20231106T170142Z
UID:10000712-1700251200-1700251200@firehouse.org
SUMMARY:Million Dollar Quartet
DESCRIPTION:$35/Members\n$40/Non-Members\nIntroducing “Pay What You Can Saturday Nights” presented by Matter Communications. At the Firehouse\, we’re committed to removing the financial barrier for audience members to enjoy a high-quality performing arts experience. We’re grateful to Matter Communications for making this program possible!\n \n  \n  \nPurchase Tickets\n\nThe Tony® Award-nominated musical MILLION DOLLAR QUARTET is set on December 4\, 1956\, when an extraordinary twist of fate brought Johnny Cash\, Jerry Lee Lewis\, Carl Perkins and Elvis Presley together at Sun Records in Memphis for what would be one of the greatest jam sessions ever. MILLION DOLLAR QUARTET brings that legendary December night to life with an irresistible tale of broken promises\, secrets\, betrayal and celebrations that is both poignant and funny. \nRelive the era with the smash-hit sensation featuring an incredible score of rock ‘n’ roll\, gospel\, R&B and country hits\, performed live onstage by world-class actors and musicians. Showcased hit songs include “Blue Suede Shoes\,” “Fever\,” “Walk the Line\,” “Sixteen Tons\,” “Who Do You Love?\,” “Great Balls of Fire\,” “Folsom Prison Blues\,” “Whole Lotta Shakin’ Goin’ On\,” “Hound Dog\,” and more. \nBook by Colin Escott and Floyd Mutrix\nOriginal Concept and Direction by Floyd Mutrix\nInspired by Elvis Presley\, Johnny Cash\, Jerry Lee Lewis\, and Carl Perkins  \nPurchase Tickets
URL:https://firehouse.org/event/million-dollar-quartet/2023-11-17/
LOCATION:Firehouse Center for the Arts\, Market Square\, Newburyport\, MA\, 01950\, United States
CATEGORIES:Theater
ATTACH;FMTTYPE=image/png:https://firehouse.org/wp-content/uploads/2023/08/MDQ-FH-Website-Event-690x375-1.png
END:VEVENT
BEGIN:VEVENT
DTSTART;TZID=America/New_York:20231118T200000
DTEND;TZID=America/New_York:20231118T200000
DTSTAMP:20260424T060236
CREATED:20230901T101952Z
LAST-MODIFIED:20231106T170142Z
UID:10000713-1700337600-1700337600@firehouse.org
SUMMARY:Million Dollar Quartet
DESCRIPTION:$35/Members\n$40/Non-Members\nIntroducing “Pay What You Can Saturday Nights” presented by Matter Communications. At the Firehouse\, we’re committed to removing the financial barrier for audience members to enjoy a high-quality performing arts experience. We’re grateful to Matter Communications for making this program possible!\n \n  \n  \nPurchase Tickets\n\nThe Tony® Award-nominated musical MILLION DOLLAR QUARTET is set on December 4\, 1956\, when an extraordinary twist of fate brought Johnny Cash\, Jerry Lee Lewis\, Carl Perkins and Elvis Presley together at Sun Records in Memphis for what would be one of the greatest jam sessions ever. MILLION DOLLAR QUARTET brings that legendary December night to life with an irresistible tale of broken promises\, secrets\, betrayal and celebrations that is both poignant and funny. \nRelive the era with the smash-hit sensation featuring an incredible score of rock ‘n’ roll\, gospel\, R&B and country hits\, performed live onstage by world-class actors and musicians. Showcased hit songs include “Blue Suede Shoes\,” “Fever\,” “Walk the Line\,” “Sixteen Tons\,” “Who Do You Love?\,” “Great Balls of Fire\,” “Folsom Prison Blues\,” “Whole Lotta Shakin’ Goin’ On\,” “Hound Dog\,” and more. \nBook by Colin Escott and Floyd Mutrix\nOriginal Concept and Direction by Floyd Mutrix\nInspired by Elvis Presley\, Johnny Cash\, Jerry Lee Lewis\, and Carl Perkins  \nPurchase Tickets
URL:https://firehouse.org/event/million-dollar-quartet/2023-11-18/
LOCATION:Firehouse Center for the Arts\, Market Square\, Newburyport\, MA\, 01950\, United States
CATEGORIES:Theater
ATTACH;FMTTYPE=image/png:https://firehouse.org/wp-content/uploads/2023/08/MDQ-FH-Website-Event-690x375-1.png
END:VEVENT
BEGIN:VEVENT
DTSTART;TZID=America/New_York:20231119T150000
DTEND;TZID=America/New_York:20231119T150000
DTSTAMP:20260424T060236
CREATED:20230901T101952Z
LAST-MODIFIED:20231106T170142Z
UID:10000714-1700406000-1700406000@firehouse.org
SUMMARY:Million Dollar Quartet
DESCRIPTION:$35/Members\n$40/Non-Members\nIntroducing “Pay What You Can Saturday Nights” presented by Matter Communications. At the Firehouse\, we’re committed to removing the financial barrier for audience members to enjoy a high-quality performing arts experience. We’re grateful to Matter Communications for making this program possible!\n \n  \n  \nPurchase Tickets\n\nThe Tony® Award-nominated musical MILLION DOLLAR QUARTET is set on December 4\, 1956\, when an extraordinary twist of fate brought Johnny Cash\, Jerry Lee Lewis\, Carl Perkins and Elvis Presley together at Sun Records in Memphis for what would be one of the greatest jam sessions ever. MILLION DOLLAR QUARTET brings that legendary December night to life with an irresistible tale of broken promises\, secrets\, betrayal and celebrations that is both poignant and funny. \nRelive the era with the smash-hit sensation featuring an incredible score of rock ‘n’ roll\, gospel\, R&B and country hits\, performed live onstage by world-class actors and musicians. Showcased hit songs include “Blue Suede Shoes\,” “Fever\,” “Walk the Line\,” “Sixteen Tons\,” “Who Do You Love?\,” “Great Balls of Fire\,” “Folsom Prison Blues\,” “Whole Lotta Shakin’ Goin’ On\,” “Hound Dog\,” and more. \nBook by Colin Escott and Floyd Mutrix\nOriginal Concept and Direction by Floyd Mutrix\nInspired by Elvis Presley\, Johnny Cash\, Jerry Lee Lewis\, and Carl Perkins  \nPurchase Tickets
URL:https://firehouse.org/event/million-dollar-quartet/2023-11-19/
LOCATION:Firehouse Center for the Arts\, Market Square\, Newburyport\, MA\, 01950\, United States
CATEGORIES:Theater
ATTACH;FMTTYPE=image/png:https://firehouse.org/wp-content/uploads/2023/08/MDQ-FH-Website-Event-690x375-1.png
END:VEVENT
BEGIN:VEVENT
DTSTART;TZID=America/New_York:20231119T200000
DTEND;TZID=America/New_York:20231119T200000
DTSTAMP:20260424T060236
CREATED:20231019T095352Z
LAST-MODIFIED:20231106T183712Z
UID:10000870-1700424000-1700424000@firehouse.org
SUMMARY:The Wizard of Stars
DESCRIPTION:Multi-impressionist Gary Leavitt with special guest Paul Nardizzi \nNon-Member: $15\nMember: $12 \nPurchase Tickets\n\nGary Leavitt teams up with his favorite comedian and good friend Paul Nardizzi for a night of incredible entertainment. \nLeavitt who has been a radio talent for the past 37 years has been called the top celebrity voice impersonator/impressionist in the country. To date he has over 6000 different voices as part of his repertoire. They include Hollywood actors and actresses\, famous musicians\, the most well-known\, comedians\, cartoon characters\, professional athletes and politicians. \nNardizzi\, who has had guest appearances on Conan O’Brien and Comedy Central is considered to be one of the best comedians in New England. \nThis 90 minute show will leave you wanting for more. \nPurchase Tickets
URL:https://firehouse.org/event/the-wizard-of-stars-multi-impressionist-gary-leavitt-with-special-guest-paul-nardizzi/
LOCATION:Firehouse Center for the Arts\, Market Square\, Newburyport\, MA\, 01950\, United States
CATEGORIES:Comedy,Special Events,Theater
ATTACH;FMTTYPE=image/jpeg:https://firehouse.org/wp-content/uploads/2023/10/The-Wizard-of-Stars_Website.jpg
END:VEVENT
BEGIN:VEVENT
DTSTART;TZID=America/New_York:20231124T200000
DTEND;TZID=America/New_York:20231124T200000
DTSTAMP:20260424T060236
CREATED:20230901T101952Z
LAST-MODIFIED:20231106T170142Z
UID:10000715-1700856000-1700856000@firehouse.org
SUMMARY:Million Dollar Quartet
DESCRIPTION:$35/Members\n$40/Non-Members\nIntroducing “Pay What You Can Saturday Nights” presented by Matter Communications. At the Firehouse\, we’re committed to removing the financial barrier for audience members to enjoy a high-quality performing arts experience. We’re grateful to Matter Communications for making this program possible!\n \n  \n  \nPurchase Tickets\n\nThe Tony® Award-nominated musical MILLION DOLLAR QUARTET is set on December 4\, 1956\, when an extraordinary twist of fate brought Johnny Cash\, Jerry Lee Lewis\, Carl Perkins and Elvis Presley together at Sun Records in Memphis for what would be one of the greatest jam sessions ever. MILLION DOLLAR QUARTET brings that legendary December night to life with an irresistible tale of broken promises\, secrets\, betrayal and celebrations that is both poignant and funny. \nRelive the era with the smash-hit sensation featuring an incredible score of rock ‘n’ roll\, gospel\, R&B and country hits\, performed live onstage by world-class actors and musicians. Showcased hit songs include “Blue Suede Shoes\,” “Fever\,” “Walk the Line\,” “Sixteen Tons\,” “Who Do You Love?\,” “Great Balls of Fire\,” “Folsom Prison Blues\,” “Whole Lotta Shakin’ Goin’ On\,” “Hound Dog\,” and more. \nBook by Colin Escott and Floyd Mutrix\nOriginal Concept and Direction by Floyd Mutrix\nInspired by Elvis Presley\, Johnny Cash\, Jerry Lee Lewis\, and Carl Perkins  \nPurchase Tickets
URL:https://firehouse.org/event/million-dollar-quartet/2023-11-24/
LOCATION:Firehouse Center for the Arts\, Market Square\, Newburyport\, MA\, 01950\, United States
CATEGORIES:Theater
ATTACH;FMTTYPE=image/png:https://firehouse.org/wp-content/uploads/2023/08/MDQ-FH-Website-Event-690x375-1.png
END:VEVENT
BEGIN:VEVENT
DTSTART;TZID=America/New_York:20231125T200000
DTEND;TZID=America/New_York:20231125T200000
DTSTAMP:20260424T060236
CREATED:20230901T101952Z
LAST-MODIFIED:20231106T170142Z
UID:10000716-1700942400-1700942400@firehouse.org
SUMMARY:Million Dollar Quartet
DESCRIPTION:$35/Members\n$40/Non-Members\nIntroducing “Pay What You Can Saturday Nights” presented by Matter Communications. At the Firehouse\, we’re committed to removing the financial barrier for audience members to enjoy a high-quality performing arts experience. We’re grateful to Matter Communications for making this program possible!\n \n  \n  \nPurchase Tickets\n\nThe Tony® Award-nominated musical MILLION DOLLAR QUARTET is set on December 4\, 1956\, when an extraordinary twist of fate brought Johnny Cash\, Jerry Lee Lewis\, Carl Perkins and Elvis Presley together at Sun Records in Memphis for what would be one of the greatest jam sessions ever. MILLION DOLLAR QUARTET brings that legendary December night to life with an irresistible tale of broken promises\, secrets\, betrayal and celebrations that is both poignant and funny. \nRelive the era with the smash-hit sensation featuring an incredible score of rock ‘n’ roll\, gospel\, R&B and country hits\, performed live onstage by world-class actors and musicians. Showcased hit songs include “Blue Suede Shoes\,” “Fever\,” “Walk the Line\,” “Sixteen Tons\,” “Who Do You Love?\,” “Great Balls of Fire\,” “Folsom Prison Blues\,” “Whole Lotta Shakin’ Goin’ On\,” “Hound Dog\,” and more. \nBook by Colin Escott and Floyd Mutrix\nOriginal Concept and Direction by Floyd Mutrix\nInspired by Elvis Presley\, Johnny Cash\, Jerry Lee Lewis\, and Carl Perkins  \nPurchase Tickets
URL:https://firehouse.org/event/million-dollar-quartet/2023-11-25/
LOCATION:Firehouse Center for the Arts\, Market Square\, Newburyport\, MA\, 01950\, United States
CATEGORIES:Theater
ATTACH;FMTTYPE=image/png:https://firehouse.org/wp-content/uploads/2023/08/MDQ-FH-Website-Event-690x375-1.png
END:VEVENT
BEGIN:VEVENT
DTSTART;TZID=America/New_York:20231126T150000
DTEND;TZID=America/New_York:20231126T150000
DTSTAMP:20260424T060236
CREATED:20230901T101952Z
LAST-MODIFIED:20231106T170142Z
UID:10000717-1701010800-1701010800@firehouse.org
SUMMARY:Million Dollar Quartet
DESCRIPTION:$35/Members\n$40/Non-Members\nIntroducing “Pay What You Can Saturday Nights” presented by Matter Communications. At the Firehouse\, we’re committed to removing the financial barrier for audience members to enjoy a high-quality performing arts experience. We’re grateful to Matter Communications for making this program possible!\n \n  \n  \nPurchase Tickets\n\nThe Tony® Award-nominated musical MILLION DOLLAR QUARTET is set on December 4\, 1956\, when an extraordinary twist of fate brought Johnny Cash\, Jerry Lee Lewis\, Carl Perkins and Elvis Presley together at Sun Records in Memphis for what would be one of the greatest jam sessions ever. MILLION DOLLAR QUARTET brings that legendary December night to life with an irresistible tale of broken promises\, secrets\, betrayal and celebrations that is both poignant and funny. \nRelive the era with the smash-hit sensation featuring an incredible score of rock ‘n’ roll\, gospel\, R&B and country hits\, performed live onstage by world-class actors and musicians. Showcased hit songs include “Blue Suede Shoes\,” “Fever\,” “Walk the Line\,” “Sixteen Tons\,” “Who Do You Love?\,” “Great Balls of Fire\,” “Folsom Prison Blues\,” “Whole Lotta Shakin’ Goin’ On\,” “Hound Dog\,” and more. \nBook by Colin Escott and Floyd Mutrix\nOriginal Concept and Direction by Floyd Mutrix\nInspired by Elvis Presley\, Johnny Cash\, Jerry Lee Lewis\, and Carl Perkins  \nPurchase Tickets
URL:https://firehouse.org/event/million-dollar-quartet/2023-11-26/
LOCATION:Firehouse Center for the Arts\, Market Square\, Newburyport\, MA\, 01950\, United States
CATEGORIES:Theater
ATTACH;FMTTYPE=image/png:https://firehouse.org/wp-content/uploads/2023/08/MDQ-FH-Website-Event-690x375-1.png
END:VEVENT
END:VCALENDAR