BEGIN:VCALENDAR
VERSION:2.0
PRODID:-//Firehouse - ECPv6.15.20//NONSGML v1.0//EN
CALSCALE:GREGORIAN
METHOD:PUBLISH
X-ORIGINAL-URL:https://firehouse.org
X-WR-CALDESC:Events for Firehouse
REFRESH-INTERVAL;VALUE=DURATION:PT1H
X-Robots-Tag:noindex
X-PUBLISHED-TTL:PT1H
BEGIN:VTIMEZONE
TZID:America/New_York
BEGIN:DAYLIGHT
TZOFFSETFROM:-0500
TZOFFSETTO:-0400
TZNAME:EDT
DTSTART:20250309T070000
END:DAYLIGHT
BEGIN:STANDARD
TZOFFSETFROM:-0400
TZOFFSETTO:-0500
TZNAME:EST
DTSTART:20251102T060000
END:STANDARD
BEGIN:DAYLIGHT
TZOFFSETFROM:-0500
TZOFFSETTO:-0400
TZNAME:EDT
DTSTART:20260308T070000
END:DAYLIGHT
BEGIN:STANDARD
TZOFFSETFROM:-0400
TZOFFSETTO:-0500
TZNAME:EST
DTSTART:20261101T060000
END:STANDARD
BEGIN:DAYLIGHT
TZOFFSETFROM:-0500
TZOFFSETTO:-0400
TZNAME:EDT
DTSTART:20270314T070000
END:DAYLIGHT
BEGIN:STANDARD
TZOFFSETFROM:-0400
TZOFFSETTO:-0500
TZNAME:EST
DTSTART:20271107T060000
END:STANDARD
END:VTIMEZONE
BEGIN:VEVENT
DTSTART;TZID=America/New_York:20260301T140000
DTEND;TZID=America/New_York:20260301T160000
DTSTAMP:20260419T201410
CREATED:20260203T160919Z
LAST-MODIFIED:20260216T142530Z
UID:10001299-1772373600-1772380800@firehouse.org
SUMMARY:Life Goes On - Second Act Readers Theater
DESCRIPTION:The Firehouse Center for the Arts Presents… \nLife Goes On\nA Second Act Readers Theater Education Program \nAll Tickets | $12 \nPurchase Tickets\n\n  \nThe Drawing\nfeaturing: Roger Burgess\, Kara Purdie & Jeffrey Cousminer (Announcer) \nMyrtle Beach Sunrise\nfeaturing: Barbara Lasovick\, Ann McCrea & Ross Kimball \nBette & Joan\nfeaturing: Lenora Salvucci & Bette Lischke \nHow Could You\nfeaturing: Mary Miceli & Candie Benjamin \nWhat Is Due\nfeaturing: Andrea Caswell & Jack Santos \nLadies of the Night\nfeaturing: Barbara Lasovick & Valerie Casella \nFerry Tales\nfeaturing: Deborah Baker & Ross Kimball \nLunch and Dinner\nfeaturing: Jeffrey Cousminer & Ruth Allen \n 
URL:https://firehouse.org/event/sart-26-2/
LOCATION:Actors Studio of Newburyport\, 1 Merrill St #3\, Salisbury\, 01952\, United States
CATEGORIES:Theater
ATTACH;FMTTYPE=image/jpeg:https://firehouse.org/wp-content/uploads/2026/02/SART-Web-Event-690-x-375-px.jpg
END:VEVENT
BEGIN:VEVENT
DTSTART;TZID=America/New_York:20260319T183000
DTEND;TZID=America/New_York:20260319T200000
DTSTAMP:20260419T201410
CREATED:20260206T160711Z
LAST-MODIFIED:20260206T160711Z
UID:10001301-1773945000-1773950400@firehouse.org
SUMMARY:Frozen Jr.
DESCRIPTION:The Firehouse Center for the Arts presents… \nFrozen Jr.\nA Firehouse Education Series \nAdults | $22 \nStudents | $16 \nPurchase Tickets\n\nA story of true love and acceptance between sisters\, Frozen JR. expands upon the emotional relationship and journey between Princesses Anna and Elsa. When faced with danger\, the two discover their hidden potential and the powerful bond of sisterhood. With a cast of beloved characters and loaded with magic\, adventure\, and plenty of humor\, Frozen JR. is sure to thaw even the coldest heart!  \n 
URL:https://firehouse.org/event/frozen/2026-03-19/
LOCATION:Firehouse Center for the Arts\, Market Square\, Newburyport\, MA\, 01950\, United States
CATEGORIES:Family,Theater,Youth
ATTACH;FMTTYPE=image/jpeg:https://firehouse.org/wp-content/uploads/2026/02/Frozen-Jr.-1.jpg
END:VEVENT
BEGIN:VEVENT
DTSTART;TZID=America/New_York:20260320T183000
DTEND;TZID=America/New_York:20260320T200000
DTSTAMP:20260419T201410
CREATED:20260206T160711Z
LAST-MODIFIED:20260206T160711Z
UID:10001302-1774031400-1774036800@firehouse.org
SUMMARY:Frozen Jr.
DESCRIPTION:The Firehouse Center for the Arts presents… \nFrozen Jr.\nA Firehouse Education Series \nAdults | $22 \nStudents | $16 \nPurchase Tickets\n\nA story of true love and acceptance between sisters\, Frozen JR. expands upon the emotional relationship and journey between Princesses Anna and Elsa. When faced with danger\, the two discover their hidden potential and the powerful bond of sisterhood. With a cast of beloved characters and loaded with magic\, adventure\, and plenty of humor\, Frozen JR. is sure to thaw even the coldest heart!  \n 
URL:https://firehouse.org/event/frozen/2026-03-20/
LOCATION:Firehouse Center for the Arts\, Market Square\, Newburyport\, MA\, 01950\, United States
CATEGORIES:Family,Theater,Youth
ATTACH;FMTTYPE=image/jpeg:https://firehouse.org/wp-content/uploads/2026/02/Frozen-Jr.-1.jpg
END:VEVENT
BEGIN:VEVENT
DTSTART;TZID=America/New_York:20260321T140000
DTEND;TZID=America/New_York:20260321T153000
DTSTAMP:20260419T201410
CREATED:20260206T160711Z
LAST-MODIFIED:20260206T160711Z
UID:10001303-1774101600-1774107000@firehouse.org
SUMMARY:Frozen Jr.
DESCRIPTION:The Firehouse Center for the Arts presents… \nFrozen Jr.\nA Firehouse Education Series \nAdults | $22 \nStudents | $16 \nPurchase Tickets\n\nA story of true love and acceptance between sisters\, Frozen JR. expands upon the emotional relationship and journey between Princesses Anna and Elsa. When faced with danger\, the two discover their hidden potential and the powerful bond of sisterhood. With a cast of beloved characters and loaded with magic\, adventure\, and plenty of humor\, Frozen JR. is sure to thaw even the coldest heart!  \n 
URL:https://firehouse.org/event/frozen/2026-03-21/1/
LOCATION:Firehouse Center for the Arts\, Market Square\, Newburyport\, MA\, 01950\, United States
CATEGORIES:Family,Theater,Youth
ATTACH;FMTTYPE=image/jpeg:https://firehouse.org/wp-content/uploads/2026/02/Frozen-Jr.-1.jpg
END:VEVENT
BEGIN:VEVENT
DTSTART;TZID=America/New_York:20260321T183000
DTEND;TZID=America/New_York:20260321T200000
DTSTAMP:20260419T201410
CREATED:20260206T160711Z
LAST-MODIFIED:20260206T160711Z
UID:10001304-1774117800-1774123200@firehouse.org
SUMMARY:Frozen Jr.
DESCRIPTION:The Firehouse Center for the Arts presents… \nFrozen Jr.\nA Firehouse Education Series \nAdults | $22 \nStudents | $16 \nPurchase Tickets\n\nA story of true love and acceptance between sisters\, Frozen JR. expands upon the emotional relationship and journey between Princesses Anna and Elsa. When faced with danger\, the two discover their hidden potential and the powerful bond of sisterhood. With a cast of beloved characters and loaded with magic\, adventure\, and plenty of humor\, Frozen JR. is sure to thaw even the coldest heart!  \n 
URL:https://firehouse.org/event/frozen/2026-03-21/2/
LOCATION:Firehouse Center for the Arts\, Market Square\, Newburyport\, MA\, 01950\, United States
CATEGORIES:Family,Theater,Youth
ATTACH;FMTTYPE=image/jpeg:https://firehouse.org/wp-content/uploads/2026/02/Frozen-Jr.-1.jpg
END:VEVENT
BEGIN:VEVENT
DTSTART;TZID=America/New_York:20260322T140000
DTEND;TZID=America/New_York:20260322T153000
DTSTAMP:20260419T201410
CREATED:20260206T160711Z
LAST-MODIFIED:20260206T160711Z
UID:10001305-1774188000-1774193400@firehouse.org
SUMMARY:Frozen Jr.
DESCRIPTION:The Firehouse Center for the Arts presents… \nFrozen Jr.\nA Firehouse Education Series \nAdults | $22 \nStudents | $16 \nPurchase Tickets\n\nA story of true love and acceptance between sisters\, Frozen JR. expands upon the emotional relationship and journey between Princesses Anna and Elsa. When faced with danger\, the two discover their hidden potential and the powerful bond of sisterhood. With a cast of beloved characters and loaded with magic\, adventure\, and plenty of humor\, Frozen JR. is sure to thaw even the coldest heart!  \n 
URL:https://firehouse.org/event/frozen/2026-03-22/
LOCATION:Firehouse Center for the Arts\, Market Square\, Newburyport\, MA\, 01950\, United States
CATEGORIES:Family,Theater,Youth
ATTACH;FMTTYPE=image/jpeg:https://firehouse.org/wp-content/uploads/2026/02/Frozen-Jr.-1.jpg
END:VEVENT
END:VCALENDAR