BEGIN:VCALENDAR
VERSION:2.0
PRODID:-//Firehouse - ECPv6.15.20//NONSGML v1.0//EN
CALSCALE:GREGORIAN
METHOD:PUBLISH
X-ORIGINAL-URL:https://firehouse.org
X-WR-CALDESC:Events for Firehouse
REFRESH-INTERVAL;VALUE=DURATION:PT1H
X-Robots-Tag:noindex
X-PUBLISHED-TTL:PT1H
BEGIN:VTIMEZONE
TZID:America/New_York
BEGIN:DAYLIGHT
TZOFFSETFROM:-0500
TZOFFSETTO:-0400
TZNAME:EDT
DTSTART:20250309T070000
END:DAYLIGHT
BEGIN:STANDARD
TZOFFSETFROM:-0400
TZOFFSETTO:-0500
TZNAME:EST
DTSTART:20251102T060000
END:STANDARD
BEGIN:DAYLIGHT
TZOFFSETFROM:-0500
TZOFFSETTO:-0400
TZNAME:EDT
DTSTART:20260308T070000
END:DAYLIGHT
BEGIN:STANDARD
TZOFFSETFROM:-0400
TZOFFSETTO:-0500
TZNAME:EST
DTSTART:20261101T060000
END:STANDARD
BEGIN:DAYLIGHT
TZOFFSETFROM:-0500
TZOFFSETTO:-0400
TZNAME:EDT
DTSTART:20270314T070000
END:DAYLIGHT
BEGIN:STANDARD
TZOFFSETFROM:-0400
TZOFFSETTO:-0500
TZNAME:EST
DTSTART:20271107T060000
END:STANDARD
END:VTIMEZONE
BEGIN:VEVENT
DTSTART;TZID=America/New_York:20260618T190000
DTEND;TZID=America/New_York:20260618T210000
DTSTAMP:20260424T132801
CREATED:20260410T120050Z
LAST-MODIFIED:20260408T163840Z
UID:10001336-1781809200-1781816400@firehouse.org
SUMMARY:Amanda Pascali
DESCRIPTION:The Firehouse Center for the Arts presents… \nAmanda Pascali\nTickets starting at $27 \nPurchase Tickets\n\nPascali’s work songs\, protest numbers\, lullabies and ballads about everyday struggle are resonating with a diverse global audience. With one viral video after another\, she has garnered over 130k followers on Instagram. Her fans appreciate her captivating voice\, poeticism and preternatural ability to find old songs that reverberate across countries and centuries. The accolades have followed: Fulbright Scholar\, Artist-in-Residence at the Library of Congress\, World Expo performer in Osaka\, official showcase artist at Folk Alliance International\, and awards from the Calandra Institute\, Mid-America Arts Alliance\, Kerrville Folk Festival\, and Houston Arts Alliance. But perhaps more meaningfully\, Pascali proves that old songs can be endlessly reshaped for new generations. \n  \n                                                            \n \n  \n \nAmanda Pascali embodies the complexity of modern identity. Born to a mother from Cairo who grew up in France and an Italian father raised in Romania\, she’s a mixed-race\, bilingual Gen Z troubadour perpetually caught between worlds. Quoting poet Ijeoma Umebinyuo\, she says\, “I’m often ‘too foreign for here\, too foreign for home\, and never enough for both.’” Rather than lamenting this displacement\, Pascali has transformed it into her artistic superpower. In her bright red teenage bedroom\, she started writing songs about her life and family\, later singing them at coffeehouses and motorcycle bars. Her curiosity eventually led her to Palermo on a Fulbright fellowship\, where she spent two years developing To Sing and Recount (Canta e Cunta) — a digital storytelling project that translates and revitalizes Southern Italian folk songs\, revealing their startling relevance to contemporary social issues worldwide. \nPurchase Tickets\n\n  \n 
URL:https://firehouse.org/event/pascali-26/
LOCATION:Firehouse Center for the Arts\, Market Square\, Newburyport\, MA\, 01950\, United States
CATEGORIES:Music
ATTACH;FMTTYPE=image/jpeg:https://firehouse.org/wp-content/uploads/2026/04/3.jpg
END:VEVENT
BEGIN:VEVENT
DTSTART;TZID=America/New_York:20260626T193000
DTEND;TZID=America/New_York:20260626T213000
DTSTAMP:20260424T132801
CREATED:20260410T120031Z
LAST-MODIFIED:20260420T125949Z
UID:10001335-1782502200-1782509400@firehouse.org
SUMMARY:Feeling Groovy
DESCRIPTION:The Firehouse Center for the Arts Presents… \nFeeling Groovy\nA Tribute to Simon & Garfunkel \nTickets Starting at $32 \nPurchase Tickets\n\nRediscover the music of one of the world’s most successful groups. Featuring Dave Brouillette\, Malcolm Johnson\, Ron Chain\, Matt Beard\, Mark Luchini\, and Charlie Wear\, this tribute show captures the magic of Simon and Garfunkel from their earliest recordings to Paul Simon’s solo hits. \nIt’s more than a concert – it’s the story behind the music. Come hear the rare acoustic versions\, sing along to the hits\, and celebrate a lifelong musical partnership. They pay tribute to the earliest works of Wednesday Morning 3 am\, to the solo career of Paul Simon. You’ll hear rare acoustic versions of their first recordings and sing along to all their greatest hits that made Simon & Garfunkel one of the most successful groups in music history. \n 
URL:https://firehouse.org/event/groovy-26/
LOCATION:Firehouse Center for the Arts\, Market Square\, Newburyport\, MA\, 01950\, United States
CATEGORIES:Music
ATTACH;FMTTYPE=image/jpeg:https://firehouse.org/wp-content/uploads/2026/04/Feeling-Groovy-690-x-375-px.jpg
END:VEVENT
END:VCALENDAR