BEGIN:VCALENDAR
VERSION:2.0
PRODID:-//Firehouse - ECPv6.15.20//NONSGML v1.0//EN
CALSCALE:GREGORIAN
METHOD:PUBLISH
X-WR-CALNAME:Firehouse
X-ORIGINAL-URL:https://firehouse.org
X-WR-CALDESC:Events for Firehouse
REFRESH-INTERVAL;VALUE=DURATION:PT1H
X-Robots-Tag:noindex
X-PUBLISHED-TTL:PT1H
BEGIN:VTIMEZONE
TZID:America/New_York
BEGIN:DAYLIGHT
TZOFFSETFROM:-0500
TZOFFSETTO:-0400
TZNAME:EDT
DTSTART:20250309T070000
END:DAYLIGHT
BEGIN:STANDARD
TZOFFSETFROM:-0400
TZOFFSETTO:-0500
TZNAME:EST
DTSTART:20251102T060000
END:STANDARD
BEGIN:DAYLIGHT
TZOFFSETFROM:-0500
TZOFFSETTO:-0400
TZNAME:EDT
DTSTART:20260308T070000
END:DAYLIGHT
BEGIN:STANDARD
TZOFFSETFROM:-0400
TZOFFSETTO:-0500
TZNAME:EST
DTSTART:20261101T060000
END:STANDARD
BEGIN:DAYLIGHT
TZOFFSETFROM:-0500
TZOFFSETTO:-0400
TZNAME:EDT
DTSTART:20270314T070000
END:DAYLIGHT
BEGIN:STANDARD
TZOFFSETFROM:-0400
TZOFFSETTO:-0500
TZNAME:EST
DTSTART:20271107T060000
END:STANDARD
END:VTIMEZONE
BEGIN:VEVENT
DTSTART;TZID=America/New_York:20260306T173000
DTEND;TZID=America/New_York:20260306T190000
DTSTAMP:20260423T060035
CREATED:20260206T001651Z
LAST-MODIFIED:20260206T160830Z
UID:10001300-1772818200-1772823600@firehouse.org
SUMMARY:Oyster Restoration - A Film & Speaker Series
DESCRIPTION:Massachusetts Oyster Project Presents… \nOyster Restoration\nAn Evening of Film\, Oysters & Coastal Impact\nAll Tickets: $20 \nPurchase Tickets\n\nJoin Mass Oyster Project for a special evening on the North Shore celebrating oyster restoration and marine conservation. \n Short Film Screening\nSupported by 11th Hour Racing\nDirected by Lindsey Hagen\nProduced by Gnarly Bay Film \nFollowing the film\, stay for a Q&A and conversation about oyster restoration and the work happening right here on the North Shore. \n Enjoy a glass of Kim Crawford wine\n Plus a few fresh oysters \n  \n Questions?\nContact: contact@massoyster.org
URL:https://firehouse.org/event/oyster-26/
LOCATION:Firehouse Center for the Arts\, Market Square\, Newburyport\, MA\, 01950\, United States
CATEGORIES:Film,Lectures & Speakers
ATTACH;FMTTYPE=image/jpeg:https://firehouse.org/wp-content/uploads/2026/02/Oyster-Web-Event-2.jpg
END:VEVENT
END:VCALENDAR