BEGIN:VCALENDAR
VERSION:2.0
PRODID:-//Firehouse - ECPv6.15.20//NONSGML v1.0//EN
CALSCALE:GREGORIAN
METHOD:PUBLISH
X-WR-CALNAME:Firehouse
X-ORIGINAL-URL:https://firehouse.org
X-WR-CALDESC:Events for Firehouse
REFRESH-INTERVAL;VALUE=DURATION:PT1H
X-Robots-Tag:noindex
X-PUBLISHED-TTL:PT1H
BEGIN:VTIMEZONE
TZID:America/New_York
BEGIN:DAYLIGHT
TZOFFSETFROM:-0500
TZOFFSETTO:-0400
TZNAME:EDT
DTSTART:20250309T070000
END:DAYLIGHT
BEGIN:STANDARD
TZOFFSETFROM:-0400
TZOFFSETTO:-0500
TZNAME:EST
DTSTART:20251102T060000
END:STANDARD
BEGIN:DAYLIGHT
TZOFFSETFROM:-0500
TZOFFSETTO:-0400
TZNAME:EDT
DTSTART:20260308T070000
END:DAYLIGHT
BEGIN:STANDARD
TZOFFSETFROM:-0400
TZOFFSETTO:-0500
TZNAME:EST
DTSTART:20261101T060000
END:STANDARD
BEGIN:DAYLIGHT
TZOFFSETFROM:-0500
TZOFFSETTO:-0400
TZNAME:EDT
DTSTART:20270314T070000
END:DAYLIGHT
BEGIN:STANDARD
TZOFFSETFROM:-0400
TZOFFSETTO:-0500
TZNAME:EST
DTSTART:20271107T060000
END:STANDARD
END:VTIMEZONE
BEGIN:VEVENT
DTSTART;TZID=America/New_York:20260529T200000
DTEND;TZID=America/New_York:20260529T220000
DTSTAMP:20260422T100142
CREATED:20260401T175518Z
LAST-MODIFIED:20260401T175755Z
UID:10001334-1780084800-1780092000@firehouse.org
SUMMARY:Comedy Night feat. Jimmy Cash
DESCRIPTION:The Firehouse Center for the Arts presents… \nJimmy Cash\nTickets starting at $30 \nPurchase Tickets\n\n  \nJimmy Cash is a Boston-based comedian who began performing in 2016 to stay grounded from the glory of his day job as an elementary school janitor. On stage\, Jimmy draws from a wide range of life experiences including his last 20 years as a janitor\, being a dad\, and his long-term sobriety. In addition to being an in- demand national headliner\, he has worked alongside comedy stars including Shane Gillis\, Bill Burr\, Joe Dombrowski\, Lenny Clarke\, Robert Kelly\, and was comedian Bob Marley’s dedicated opener for several years.
URL:https://firehouse.org/event/cash-26/
LOCATION:Firehouse Center for the Arts\, Market Square\, Newburyport\, MA\, 01950\, United States
CATEGORIES:Comedy
ATTACH;FMTTYPE=image/png:https://firehouse.org/wp-content/uploads/2026/04/Jimmy-Cash-Web-Event690-x-375-px.png
END:VEVENT
BEGIN:VEVENT
DTSTART;TZID=America/New_York:20260620T200000
DTEND;TZID=America/New_York:20260620T220000
DTSTAMP:20260422T100142
CREATED:20260213T174258Z
LAST-MODIFIED:20260310T152943Z
UID:10001306-1781985600-1781992800@firehouse.org
SUMMARY:Jimmy Tingle: Live on Stage and Screen
DESCRIPTION:The Firehouse Center for the Arts Presents… \nJimmy Tingle\nLive on Stage and Screen\nA 50-minute comedy/documentary followed by a Q & A and Performance \nJIMMY TINGLE: THE “RADICAL” MIDDLE \nWHY WOULD A COMEDIAN RUN FOR OFFICE? \nTickets starting at $40 \nPurchase Tickets\n\nIn this extremely relevant and provocative film Jimmy Tingle chronicles his fascinating transition from a life as a seasoned comedian featuring timeless clips from his set on the Tonight Show with Johnny Carson to his prescient commentary on Donald Trump while serving as a humorist for 60 Minutes II to his riveting address at the Massachusetts Democratic Convention as a candidate for LT Governor. During the Q & A talk back Jimmy will continue to demonstrate his distinctive brand of humor\, passion and creativity to lift our spirits out of the theatre\, into the streets and on to the polls. \n  \n  \n“Martin Luther King\, Jr.\, Winston Churchill\, and Jimmy Tingle all spoke on the Sanders Theatre stage at Harvard University\, and I can guarantee you Jimmy Tingle got the most laughs… … gets my vote for Best Political Comedy film of the Year.” \n– Paula Poundstone\, comedian  \n“Government Matters! That’s why a comedian runs for office. Jimmy Tingle\, with humor and cracking wit\, uses common sense to protect the common good from those who would tear down its essential political structures. No Joke. This is Tingle at his best.” \n– James Carroll\, Author\, columnist Boston Globe  \n“Excellent! Hilarious! Very meaningful and laugh-out-loud funny!” \n– Steven Wright\, comedian
URL:https://firehouse.org/event/tingle26/
LOCATION:Firehouse Center for the Arts\, Market Square\, Newburyport\, MA\, 01950\, United States
CATEGORIES:Comedy,Film
ATTACH;FMTTYPE=image/jpeg:https://firehouse.org/wp-content/uploads/2026/02/Tingle-Web-Event-690-x-375-px-1.jpg
END:VEVENT
END:VCALENDAR